BEGIN:VCALENDAR
VERSION:2.0
PRODID:-//hacksw/handcal//NONSGML v1.0//EN
BEGIN:VEVENT
SUMMARY:Lundi - Le Touvet - Rondes de France
UID:7c30a5ed-b4da-4e1d-a1bb-961273a18daa
DTSTART:20260420T114500Z
DTEND:20260420T161500Z
LOCATION:Bridge Club du Touvet Derriere la Salle d'animation rurale du Bresson, rue du Bresson 38660 Le Touvet
CATEGORIES:Sportif
STATUS:
URL;VALUE=URI:https://bridgeclubdutouvet.sportsregions.fr/evenements/2026/04/20/lundi-le-touvet-rondes-de-france-2258756
END:VEVENT
BEGIN:VEVENT
SUMMARY:Vendredi - Le Touvet - Rondes de France
UID:e91c9d09-ec99-4d72-9631-6ab25608b121
DTSTART:20260424T114500Z
DTEND:20260424T161500Z
LOCATION:Localisation   
CATEGORIES:Sportif
STATUS:
URL;VALUE=URI:https://bridgeclubdutouvet.sportsregions.fr/evenements/2026/04/24/vendredi-le-touvet-rondes-de-france-2258713
END:VEVENT
BEGIN:VEVENT
SUMMARY:Lundi - Le Touvet - Rondes de France
UID:92ff5c66-dec6-4507-a3f0-4f29b2f12f73
DTSTART:20260427T114500Z
DTEND:20260427T161500Z
LOCATION:Bridge Club du Touvet Derriere la Salle d'animation rurale du Bresson, rue du Bresson 38660 Le Touvet
CATEGORIES:Sportif
STATUS:
URL;VALUE=URI:https://bridgeclubdutouvet.sportsregions.fr/evenements/2026/04/27/lundi-le-touvet-rondes-de-france-2258757
END:VEVENT
BEGIN:VEVENT
SUMMARY:Vendredi - Le Touvet - Rondes de France
UID:b26c6fba-0fbd-4eb5-b6c7-cb8fc0139cb4
DTSTART:20260501T114500Z
DTEND:20260501T161500Z
LOCATION:Localisation   
CATEGORIES:Sportif
STATUS:
URL;VALUE=URI:https://bridgeclubdutouvet.sportsregions.fr/evenements/2026/05/01/vendredi-le-touvet-rondes-de-france-2258714
END:VEVENT
BEGIN:VEVENT
SUMMARY:Lundi - Le Touvet - Rondes de France
UID:07f5c13c-5ac5-4cdd-8eb0-20b08d25b602
DTSTART:20260504T114500Z
DTEND:20260504T161500Z
LOCATION:Bridge Club du Touvet Derriere la Salle d'animation rurale du Bresson, rue du Bresson 38660 Le Touvet
CATEGORIES:Sportif
STATUS:
URL;VALUE=URI:https://bridgeclubdutouvet.sportsregions.fr/evenements/2026/05/04/lundi-le-touvet-rondes-de-france-2258758
END:VEVENT
BEGIN:VEVENT
SUMMARY:Vendredi - Le Touvet - Rondes de France
UID:03733db0-6962-4a3a-b8c5-99bc9a82e50e
DTSTART:20260508T114500Z
DTEND:20260508T161500Z
LOCATION:Localisation   
CATEGORIES:Sportif
STATUS:
URL;VALUE=URI:https://bridgeclubdutouvet.sportsregions.fr/evenements/2026/05/08/vendredi-le-touvet-rondes-de-france-2258715
END:VEVENT
BEGIN:VEVENT
SUMMARY:Lundi - Le Touvet - Rondes de France
UID:408d7c9b-0b68-4f9c-85b5-58e925a5c996
DTSTART:20260511T114500Z
DTEND:20260511T161500Z
LOCATION:Bridge Club du Touvet Derriere la Salle d'animation rurale du Bresson, rue du Bresson 38660 Le Touvet
CATEGORIES:Sportif
STATUS:
URL;VALUE=URI:https://bridgeclubdutouvet.sportsregions.fr/evenements/2026/05/11/lundi-le-touvet-rondes-de-france-2258759
END:VEVENT
BEGIN:VEVENT
SUMMARY:Vendredi - Le Touvet - Rondes de France
UID:9cc4fa86-1136-4f80-aa8b-179a88347746
DTSTART:20260515T114500Z
DTEND:20260515T161500Z
LOCATION:Localisation   
CATEGORIES:Sportif
STATUS:
URL;VALUE=URI:https://bridgeclubdutouvet.sportsregions.fr/evenements/2026/05/15/vendredi-le-touvet-rondes-de-france-2258716
END:VEVENT
BEGIN:VEVENT
SUMMARY:Lundi - Le Touvet - Rondes de France
UID:8697f42e-ee31-46fa-947a-828ff8500002
DTSTART:20260518T114500Z
DTEND:20260518T161500Z
LOCATION:Bridge Club du Touvet Derriere la Salle d'animation rurale du Bresson, rue du Bresson 38660 Le Touvet
CATEGORIES:Sportif
STATUS:
URL;VALUE=URI:https://bridgeclubdutouvet.sportsregions.fr/evenements/2026/05/18/lundi-le-touvet-rondes-de-france-2258760
END:VEVENT
BEGIN:VEVENT
SUMMARY:Vendredi - Le Touvet - Rondes de France
UID:52d110dc-cd7e-46bf-98aa-8c9405d49328
DTSTART:20260522T114500Z
DTEND:20260522T161500Z
LOCATION:Localisation   
CATEGORIES:Sportif
STATUS:
URL;VALUE=URI:https://bridgeclubdutouvet.sportsregions.fr/evenements/2026/05/22/vendredi-le-touvet-rondes-de-france-2258717
END:VEVENT
BEGIN:VEVENT
SUMMARY:Lundi - Le Touvet - Rondes de France
UID:eb700ebc-9c60-4743-9737-07d0b6960498
DTSTART:20260525T114500Z
DTEND:20260525T161500Z
LOCATION:Bridge Club du Touvet Derriere la Salle d'animation rurale du Bresson, rue du Bresson 38660 Le Touvet
CATEGORIES:Sportif
STATUS:
URL;VALUE=URI:https://bridgeclubdutouvet.sportsregions.fr/evenements/2026/05/25/lundi-le-touvet-rondes-de-france-2258761
END:VEVENT
BEGIN:VEVENT
SUMMARY:Vendredi - Le Touvet - Rondes de France
UID:6c42e31a-02eb-4264-a960-67e1867fa646
DTSTART:20260529T114500Z
DTEND:20260529T161500Z
LOCATION:Localisation   
CATEGORIES:Sportif
STATUS:
URL;VALUE=URI:https://bridgeclubdutouvet.sportsregions.fr/evenements/2026/05/29/vendredi-le-touvet-rondes-de-france-2258718
END:VEVENT
BEGIN:VEVENT
SUMMARY:Lundi - Le Touvet - Rondes de France
UID:1a8df32d-02b3-45e7-bfe3-ffc9488a701a
DTSTART:20260601T114500Z
DTEND:20260601T161500Z
LOCATION:Bridge Club du Touvet Derriere la Salle d'animation rurale du Bresson, rue du Bresson 38660 Le Touvet
CATEGORIES:Sportif
STATUS:
URL;VALUE=URI:https://bridgeclubdutouvet.sportsregions.fr/evenements/2026/06/01/lundi-le-touvet-rondes-de-france-2258762
END:VEVENT
BEGIN:VEVENT
SUMMARY:Vendredi - Le Touvet - Rondes de France
UID:93aed7b7-998a-4c40-968b-a54a4d2bca7e
DTSTART:20260605T114500Z
DTEND:20260605T161500Z
LOCATION:Localisation   
CATEGORIES:Sportif
STATUS:
URL;VALUE=URI:https://bridgeclubdutouvet.sportsregions.fr/evenements/2026/06/05/vendredi-le-touvet-rondes-de-france-2258719
END:VEVENT
BEGIN:VEVENT
SUMMARY:Lundi - Le Touvet - Rondes de France
UID:12195973-d541-47c3-92da-b969720f6cb7
DTSTART:20260608T114500Z
DTEND:20260608T161500Z
LOCATION:Bridge Club du Touvet Derriere la Salle d'animation rurale du Bresson, rue du Bresson 38660 Le Touvet
CATEGORIES:Sportif
STATUS:
URL;VALUE=URI:https://bridgeclubdutouvet.sportsregions.fr/evenements/2026/06/08/lundi-le-touvet-rondes-de-france-2258763
END:VEVENT
BEGIN:VEVENT
SUMMARY:Vendredi - Le Touvet - Rondes de France
UID:6c8248bd-7460-4d76-904e-b294054ccf34
DTSTART:20260612T114500Z
DTEND:20260612T161500Z
LOCATION:Localisation   
CATEGORIES:Sportif
STATUS:
URL;VALUE=URI:https://bridgeclubdutouvet.sportsregions.fr/evenements/2026/06/12/vendredi-le-touvet-rondes-de-france-2258720
END:VEVENT
BEGIN:VEVENT
SUMMARY:Lundi - Le Touvet - Rondes de France
UID:09d6a8de-6717-4688-8b8e-28e873737889
DTSTART:20260615T114500Z
DTEND:20260615T161500Z
LOCATION:Bridge Club du Touvet Derriere la Salle d'animation rurale du Bresson, rue du Bresson 38660 Le Touvet
CATEGORIES:Sportif
STATUS:
URL;VALUE=URI:https://bridgeclubdutouvet.sportsregions.fr/evenements/2026/06/15/lundi-le-touvet-rondes-de-france-2258764
END:VEVENT
BEGIN:VEVENT
SUMMARY:Vendredi - Le Touvet - Rondes de France
UID:9ba6de54-0e63-476c-9af7-f75037b40df4
DTSTART:20260619T114500Z
DTEND:20260619T161500Z
LOCATION:Localisation   
CATEGORIES:Sportif
STATUS:
URL;VALUE=URI:https://bridgeclubdutouvet.sportsregions.fr/evenements/2026/06/19/vendredi-le-touvet-rondes-de-france-2258721
END:VEVENT
BEGIN:VEVENT
SUMMARY:Lundi - Le Touvet - Rondes de France
UID:2643ed94-71ba-4073-bf54-18870ed99bde
DTSTART:20260622T114500Z
DTEND:20260622T161500Z
LOCATION:Bridge Club du Touvet Derriere la Salle d'animation rurale du Bresson, rue du Bresson 38660 Le Touvet
CATEGORIES:Sportif
STATUS:
URL;VALUE=URI:https://bridgeclubdutouvet.sportsregions.fr/evenements/2026/06/22/lundi-le-touvet-rondes-de-france-2258765
END:VEVENT
BEGIN:VEVENT
SUMMARY:Vendredi - Le Touvet - Rondes de France
UID:74329196-27ab-4de8-916d-a1ca91a3a087
DTSTART:20260626T114500Z
DTEND:20260626T161500Z
LOCATION:Localisation   
CATEGORIES:Sportif
STATUS:
URL;VALUE=URI:https://bridgeclubdutouvet.sportsregions.fr/evenements/2026/06/26/vendredi-le-touvet-rondes-de-france-2258722
END:VEVENT
BEGIN:VEVENT
SUMMARY:Lundi - Le Touvet - Rondes de France
UID:529da5f8-d951-4fc8-be17-7547ca7ce290
DTSTART:20260629T114500Z
DTEND:20260629T161500Z
LOCATION:Bridge Club du Touvet Derriere la Salle d'animation rurale du Bresson, rue du Bresson 38660 Le Touvet
CATEGORIES:Sportif
STATUS:
URL;VALUE=URI:https://bridgeclubdutouvet.sportsregions.fr/evenements/2026/06/29/lundi-le-touvet-rondes-de-france-2258766
END:VEVENT
END:VCALENDAR
